BEGIN:VCALENDAR
VERSION:2.0
PRODID:-//Atelier decoDesign.peters - ECPv6.8.2.1//NONSGML v1.0//EN
CALSCALE:GREGORIAN
METHOD:PUBLISH
X-ORIGINAL-URL:https://decodesign-peters.de
X-WR-CALDESC:Veranstaltungen fÃ¼r Atelier decoDesign.peters
REFRESH-INTERVAL;VALUE=DURATION:PT1H
X-Robots-Tag:noindex
X-PUBLISHED-TTL:PT1H
BEGIN:VTIMEZONE
TZID:Europe/Berlin
BEGIN:DAYLIGHT
TZOFFSETFROM:+0100
TZOFFSETTO:+0200
TZNAME:CEST
DTSTART:20250330T010000
END:DAYLIGHT
BEGIN:STANDARD
TZOFFSETFROM:+0200
TZOFFSETTO:+0100
TZNAME:CET
DTSTART:20251026T010000
END:STANDARD
END:VTIMEZONE
BEGIN:VEVENT
DTSTART;TZID=Europe/Berlin:20250126T110000
DTEND;TZID=Europe/Berlin:20250126T123000
DTSTAMP:20260421T195448
CREATED:20250112T002300Z
LAST-MODIFIED:20250112T002800Z
UID:4483-1737889200-1737894600@decodesign-peters.de
SUMMARY:Vernissage zur Ausstellung in Kusterdingen
DESCRIPTION:Wie bei den meisten Ausstellungen\, so auch zur Fotoaustellung in Kusterdingen\, findet eine Vernissage statt. \nFÃ¼r die musilkalische Begleitung haben wir Petra Schenk und fÃ¼r die Laudatio Karin Materna gewinnen kÃ¶nnen ðŸ™‚ \nWir starten gegen 11:00 Uhr \n 
URL:https://decodesign-peters.de/event/vernissage-zur-ausstellung-in-kusterdingen/
LOCATION:Kanzlei Reichl & Vetter\, TeichÃ¤cker 4\, Kusterdingen\, Baden-WÃ¼rttemberg\, 72127\, Germany
CATEGORIES:Ausstellung
ATTACH;FMTTYPE=image/jpeg:https://decodesign-peters.de/wp-content/uploads/Einladung_Reichl_und_Vetter_5_Seite_1-e1736622173394.jpg
ORGANIZER;CN="decoDesign.peters":MAILTO:cp@decoDesign-peters.de
END:VEVENT
END:VCALENDAR